BEGIN:VCALENDAR
VERSION:2.0
PRODID:-//Liverton Village Hall - ECPv6.15.17.1//NONSGML v1.0//EN
CALSCALE:GREGORIAN
METHOD:PUBLISH
X-WR-CALNAME:Liverton Village Hall
X-ORIGINAL-URL:https://livertonvillagehall.co.uk
X-WR-CALDESC:Events for Liverton Village Hall
REFRESH-INTERVAL;VALUE=DURATION:PT1H
X-Robots-Tag:noindex
X-PUBLISHED-TTL:PT1H
BEGIN:VTIMEZONE
TZID:Europe/London
BEGIN:DAYLIGHT
TZOFFSETFROM:+0000
TZOFFSETTO:+0100
TZNAME:BST
DTSTART:20250330T010000
END:DAYLIGHT
BEGIN:STANDARD
TZOFFSETFROM:+0100
TZOFFSETTO:+0000
TZNAME:GMT
DTSTART:20251026T010000
END:STANDARD
BEGIN:DAYLIGHT
TZOFFSETFROM:+0000
TZOFFSETTO:+0100
TZNAME:BST
DTSTART:20260329T010000
END:DAYLIGHT
BEGIN:STANDARD
TZOFFSETFROM:+0100
TZOFFSETTO:+0000
TZNAME:GMT
DTSTART:20261025T010000
END:STANDARD
BEGIN:DAYLIGHT
TZOFFSETFROM:+0000
TZOFFSETTO:+0100
TZNAME:BST
DTSTART:20270328T010000
END:DAYLIGHT
BEGIN:STANDARD
TZOFFSETFROM:+0100
TZOFFSETTO:+0000
TZNAME:GMT
DTSTART:20271031T010000
END:STANDARD
END:VTIMEZONE
BEGIN:VEVENT
DTSTART;TZID=Europe/London:20260429T080000
DTEND;TZID=Europe/London:20260429T110000
DTSTAMP:20260423T181909
CREATED:20251215T181744Z
LAST-MODIFIED:20251215T181744Z
UID:10000316-1777449600-1777460400@livertonvillagehall.co.uk
SUMMARY:Pilates (Sarah Hilliard)
DESCRIPTION:SH
URL:https://livertonvillagehall.co.uk/event/pilates-sarah-hilliard-14/2026-04-29/
END:VEVENT
BEGIN:VEVENT
DTSTART;TZID=Europe/London:20260506T080000
DTEND;TZID=Europe/London:20260506T110000
DTSTAMP:20260423T181909
CREATED:20251215T181744Z
LAST-MODIFIED:20251215T181744Z
UID:10000317-1778054400-1778065200@livertonvillagehall.co.uk
SUMMARY:Pilates (Sarah Hilliard)
DESCRIPTION:SH
URL:https://livertonvillagehall.co.uk/event/pilates-sarah-hilliard-14/2026-05-06/
END:VEVENT
BEGIN:VEVENT
DTSTART;TZID=Europe/London:20260513T080000
DTEND;TZID=Europe/London:20260513T110000
DTSTAMP:20260423T181909
CREATED:20251215T181744Z
LAST-MODIFIED:20251215T181744Z
UID:10000318-1778659200-1778670000@livertonvillagehall.co.uk
SUMMARY:Pilates (Sarah Hilliard)
DESCRIPTION:SH
URL:https://livertonvillagehall.co.uk/event/pilates-sarah-hilliard-14/2026-05-13/
END:VEVENT
BEGIN:VEVENT
DTSTART;TZID=Europe/London:20260520T080000
DTEND;TZID=Europe/London:20260520T110000
DTSTAMP:20260423T181909
CREATED:20251215T181744Z
LAST-MODIFIED:20251215T181744Z
UID:10000319-1779264000-1779274800@livertonvillagehall.co.uk
SUMMARY:Pilates (Sarah Hilliard)
DESCRIPTION:SH
URL:https://livertonvillagehall.co.uk/event/pilates-sarah-hilliard-14/2026-05-20/
END:VEVENT
BEGIN:VEVENT
DTSTART;TZID=Europe/London:20260527T080000
DTEND;TZID=Europe/London:20260527T110000
DTSTAMP:20260423T181909
CREATED:20251215T181744Z
LAST-MODIFIED:20251215T181744Z
UID:10000320-1779868800-1779879600@livertonvillagehall.co.uk
SUMMARY:Pilates (Sarah Hilliard)
DESCRIPTION:SH
URL:https://livertonvillagehall.co.uk/event/pilates-sarah-hilliard-14/2026-05-27/
END:VEVENT
BEGIN:VEVENT
DTSTART;TZID=Europe/London:20260603T080000
DTEND;TZID=Europe/London:20260603T110000
DTSTAMP:20260423T181909
CREATED:20251215T181744Z
LAST-MODIFIED:20251215T181744Z
UID:10000321-1780473600-1780484400@livertonvillagehall.co.uk
SUMMARY:Pilates (Sarah Hilliard)
DESCRIPTION:SH
URL:https://livertonvillagehall.co.uk/event/pilates-sarah-hilliard-14/2026-06-03/
END:VEVENT
BEGIN:VEVENT
DTSTART;TZID=Europe/London:20260610T080000
DTEND;TZID=Europe/London:20260610T110000
DTSTAMP:20260423T181909
CREATED:20251215T181744Z
LAST-MODIFIED:20251215T181744Z
UID:10000322-1781078400-1781089200@livertonvillagehall.co.uk
SUMMARY:Pilates (Sarah Hilliard)
DESCRIPTION:SH
URL:https://livertonvillagehall.co.uk/event/pilates-sarah-hilliard-14/2026-06-10/
END:VEVENT
BEGIN:VEVENT
DTSTART;TZID=Europe/London:20260617T080000
DTEND;TZID=Europe/London:20260617T110000
DTSTAMP:20260423T181909
CREATED:20251215T181744Z
LAST-MODIFIED:20251215T181744Z
UID:10000323-1781683200-1781694000@livertonvillagehall.co.uk
SUMMARY:Pilates (Sarah Hilliard)
DESCRIPTION:SH
URL:https://livertonvillagehall.co.uk/event/pilates-sarah-hilliard-14/2026-06-17/
END:VEVENT
BEGIN:VEVENT
DTSTART;TZID=Europe/London:20260624T080000
DTEND;TZID=Europe/London:20260624T110000
DTSTAMP:20260423T181909
CREATED:20251215T181744Z
LAST-MODIFIED:20251215T181744Z
UID:10000324-1782288000-1782298800@livertonvillagehall.co.uk
SUMMARY:Pilates (Sarah Hilliard)
DESCRIPTION:SH
URL:https://livertonvillagehall.co.uk/event/pilates-sarah-hilliard-14/2026-06-24/
END:VEVENT
BEGIN:VEVENT
DTSTART;TZID=Europe/London:20260701T080000
DTEND;TZID=Europe/London:20260701T110000
DTSTAMP:20260423T181909
CREATED:20251215T181744Z
LAST-MODIFIED:20251215T181744Z
UID:10000325-1782892800-1782903600@livertonvillagehall.co.uk
SUMMARY:Pilates (Sarah Hilliard)
DESCRIPTION:SH
URL:https://livertonvillagehall.co.uk/event/pilates-sarah-hilliard-14/2026-07-01/
END:VEVENT
BEGIN:VEVENT
DTSTART;TZID=Europe/London:20260708T080000
DTEND;TZID=Europe/London:20260708T110000
DTSTAMP:20260423T181909
CREATED:20251215T181744Z
LAST-MODIFIED:20251215T181744Z
UID:10000326-1783497600-1783508400@livertonvillagehall.co.uk
SUMMARY:Pilates (Sarah Hilliard)
DESCRIPTION:SH
URL:https://livertonvillagehall.co.uk/event/pilates-sarah-hilliard-14/2026-07-08/
END:VEVENT
BEGIN:VEVENT
DTSTART;TZID=Europe/London:20260715T080000
DTEND;TZID=Europe/London:20260715T110000
DTSTAMP:20260423T181909
CREATED:20251215T181744Z
LAST-MODIFIED:20251215T181744Z
UID:10000327-1784102400-1784113200@livertonvillagehall.co.uk
SUMMARY:Pilates (Sarah Hilliard)
DESCRIPTION:SH
URL:https://livertonvillagehall.co.uk/event/pilates-sarah-hilliard-14/2026-07-15/
END:VEVENT
BEGIN:VEVENT
DTSTART;TZID=Europe/London:20260722T080000
DTEND;TZID=Europe/London:20260722T110000
DTSTAMP:20260423T181909
CREATED:20251215T181744Z
LAST-MODIFIED:20251215T181744Z
UID:10000328-1784707200-1784718000@livertonvillagehall.co.uk
SUMMARY:Pilates (Sarah Hilliard)
DESCRIPTION:SH
URL:https://livertonvillagehall.co.uk/event/pilates-sarah-hilliard-14/2026-07-22/
END:VEVENT
BEGIN:VEVENT
DTSTART;TZID=Europe/London:20260729T080000
DTEND;TZID=Europe/London:20260729T110000
DTSTAMP:20260423T181909
CREATED:20251215T181744Z
LAST-MODIFIED:20251215T181744Z
UID:10000329-1785312000-1785322800@livertonvillagehall.co.uk
SUMMARY:Pilates (Sarah Hilliard)
DESCRIPTION:SH
URL:https://livertonvillagehall.co.uk/event/pilates-sarah-hilliard-14/2026-07-29/
END:VEVENT
BEGIN:VEVENT
DTSTART;TZID=Europe/London:20260805T080000
DTEND;TZID=Europe/London:20260805T110000
DTSTAMP:20260423T181909
CREATED:20251215T181744Z
LAST-MODIFIED:20251215T181744Z
UID:10000330-1785916800-1785927600@livertonvillagehall.co.uk
SUMMARY:Pilates (Sarah Hilliard)
DESCRIPTION:SH
URL:https://livertonvillagehall.co.uk/event/pilates-sarah-hilliard-14/2026-08-05/
END:VEVENT
BEGIN:VEVENT
DTSTART;TZID=Europe/London:20260812T080000
DTEND;TZID=Europe/London:20260812T110000
DTSTAMP:20260423T181909
CREATED:20251215T181744Z
LAST-MODIFIED:20251215T181744Z
UID:10000331-1786521600-1786532400@livertonvillagehall.co.uk
SUMMARY:Pilates (Sarah Hilliard)
DESCRIPTION:SH
URL:https://livertonvillagehall.co.uk/event/pilates-sarah-hilliard-14/2026-08-12/
END:VEVENT
BEGIN:VEVENT
DTSTART;TZID=Europe/London:20260819T080000
DTEND;TZID=Europe/London:20260819T110000
DTSTAMP:20260423T181909
CREATED:20251215T181744Z
LAST-MODIFIED:20251215T181744Z
UID:10000332-1787126400-1787137200@livertonvillagehall.co.uk
SUMMARY:Pilates (Sarah Hilliard)
DESCRIPTION:SH
URL:https://livertonvillagehall.co.uk/event/pilates-sarah-hilliard-14/2026-08-19/
END:VEVENT
BEGIN:VEVENT
DTSTART;TZID=Europe/London:20260826T080000
DTEND;TZID=Europe/London:20260826T110000
DTSTAMP:20260423T181909
CREATED:20251215T181744Z
LAST-MODIFIED:20251215T181744Z
UID:10000333-1787731200-1787742000@livertonvillagehall.co.uk
SUMMARY:Pilates (Sarah Hilliard)
DESCRIPTION:SH
URL:https://livertonvillagehall.co.uk/event/pilates-sarah-hilliard-14/2026-08-26/
END:VEVENT
BEGIN:VEVENT
DTSTART;TZID=Europe/London:20260902T080000
DTEND;TZID=Europe/London:20260902T110000
DTSTAMP:20260423T181909
CREATED:20251215T181744Z
LAST-MODIFIED:20251215T181744Z
UID:10000334-1788336000-1788346800@livertonvillagehall.co.uk
SUMMARY:Pilates (Sarah Hilliard)
DESCRIPTION:SH
URL:https://livertonvillagehall.co.uk/event/pilates-sarah-hilliard-14/2026-09-02/
END:VEVENT
BEGIN:VEVENT
DTSTART;TZID=Europe/London:20260909T080000
DTEND;TZID=Europe/London:20260909T110000
DTSTAMP:20260423T181909
CREATED:20251215T181744Z
LAST-MODIFIED:20251215T181744Z
UID:10000335-1788940800-1788951600@livertonvillagehall.co.uk
SUMMARY:Pilates (Sarah Hilliard)
DESCRIPTION:SH
URL:https://livertonvillagehall.co.uk/event/pilates-sarah-hilliard-14/2026-09-09/
END:VEVENT
BEGIN:VEVENT
DTSTART;TZID=Europe/London:20260916T080000
DTEND;TZID=Europe/London:20260916T110000
DTSTAMP:20260423T181909
CREATED:20251215T181744Z
LAST-MODIFIED:20251215T181744Z
UID:10000336-1789545600-1789556400@livertonvillagehall.co.uk
SUMMARY:Pilates (Sarah Hilliard)
DESCRIPTION:SH
URL:https://livertonvillagehall.co.uk/event/pilates-sarah-hilliard-14/2026-09-16/
END:VEVENT
BEGIN:VEVENT
DTSTART;TZID=Europe/London:20260923T080000
DTEND;TZID=Europe/London:20260923T110000
DTSTAMP:20260423T181909
CREATED:20251215T181744Z
LAST-MODIFIED:20251215T181744Z
UID:10000337-1790150400-1790161200@livertonvillagehall.co.uk
SUMMARY:Pilates (Sarah Hilliard)
DESCRIPTION:SH
URL:https://livertonvillagehall.co.uk/event/pilates-sarah-hilliard-14/2026-09-23/
END:VEVENT
BEGIN:VEVENT
DTSTART;TZID=Europe/London:20260930T080000
DTEND;TZID=Europe/London:20260930T110000
DTSTAMP:20260423T181909
CREATED:20251215T181744Z
LAST-MODIFIED:20251215T181744Z
UID:10000338-1790755200-1790766000@livertonvillagehall.co.uk
SUMMARY:Pilates (Sarah Hilliard)
DESCRIPTION:SH
URL:https://livertonvillagehall.co.uk/event/pilates-sarah-hilliard-14/2026-09-30/
END:VEVENT
BEGIN:VEVENT
DTSTART;TZID=Europe/London:20261007T080000
DTEND;TZID=Europe/London:20261007T110000
DTSTAMP:20260423T181909
CREATED:20251215T181744Z
LAST-MODIFIED:20251215T181744Z
UID:10000339-1791360000-1791370800@livertonvillagehall.co.uk
SUMMARY:Pilates (Sarah Hilliard)
DESCRIPTION:SH
URL:https://livertonvillagehall.co.uk/event/pilates-sarah-hilliard-14/2026-10-07/
END:VEVENT
BEGIN:VEVENT
DTSTART;TZID=Europe/London:20261014T080000
DTEND;TZID=Europe/London:20261014T110000
DTSTAMP:20260423T181909
CREATED:20251215T181744Z
LAST-MODIFIED:20251215T181744Z
UID:10000340-1791964800-1791975600@livertonvillagehall.co.uk
SUMMARY:Pilates (Sarah Hilliard)
DESCRIPTION:SH
URL:https://livertonvillagehall.co.uk/event/pilates-sarah-hilliard-14/2026-10-14/
END:VEVENT
BEGIN:VEVENT
DTSTART;TZID=Europe/London:20261021T080000
DTEND;TZID=Europe/London:20261021T110000
DTSTAMP:20260423T181909
CREATED:20251215T181744Z
LAST-MODIFIED:20251215T181744Z
UID:10000341-1792569600-1792580400@livertonvillagehall.co.uk
SUMMARY:Pilates (Sarah Hilliard)
DESCRIPTION:SH
URL:https://livertonvillagehall.co.uk/event/pilates-sarah-hilliard-14/2026-10-21/
END:VEVENT
BEGIN:VEVENT
DTSTART;TZID=Europe/London:20261028T080000
DTEND;TZID=Europe/London:20261028T110000
DTSTAMP:20260423T181909
CREATED:20251215T181744Z
LAST-MODIFIED:20251215T181744Z
UID:10000342-1793174400-1793185200@livertonvillagehall.co.uk
SUMMARY:Pilates (Sarah Hilliard)
DESCRIPTION:SH
URL:https://livertonvillagehall.co.uk/event/pilates-sarah-hilliard-14/2026-10-28/
END:VEVENT
BEGIN:VEVENT
DTSTART;TZID=Europe/London:20261104T080000
DTEND;TZID=Europe/London:20261104T110000
DTSTAMP:20260423T181909
CREATED:20251215T181744Z
LAST-MODIFIED:20251215T181744Z
UID:10000343-1793779200-1793790000@livertonvillagehall.co.uk
SUMMARY:Pilates (Sarah Hilliard)
DESCRIPTION:SH
URL:https://livertonvillagehall.co.uk/event/pilates-sarah-hilliard-14/2026-11-04/
END:VEVENT
BEGIN:VEVENT
DTSTART;TZID=Europe/London:20261111T080000
DTEND;TZID=Europe/London:20261111T110000
DTSTAMP:20260423T181909
CREATED:20251215T181744Z
LAST-MODIFIED:20251215T181744Z
UID:10000344-1794384000-1794394800@livertonvillagehall.co.uk
SUMMARY:Pilates (Sarah Hilliard)
DESCRIPTION:SH
URL:https://livertonvillagehall.co.uk/event/pilates-sarah-hilliard-14/2026-11-11/
END:VEVENT
BEGIN:VEVENT
DTSTART;TZID=Europe/London:20261118T080000
DTEND;TZID=Europe/London:20261118T110000
DTSTAMP:20260423T181909
CREATED:20251215T181744Z
LAST-MODIFIED:20251215T181744Z
UID:10000345-1794988800-1794999600@livertonvillagehall.co.uk
SUMMARY:Pilates (Sarah Hilliard)
DESCRIPTION:SH
URL:https://livertonvillagehall.co.uk/event/pilates-sarah-hilliard-14/2026-11-18/
END:VEVENT
END:VCALENDAR