BEGIN:VCALENDAR
VERSION:2.0
PRODID:-//Liverton Village Hall - ECPv6.15.17.1//NONSGML v1.0//EN
CALSCALE:GREGORIAN
METHOD:PUBLISH
X-WR-CALNAME:Liverton Village Hall
X-ORIGINAL-URL:https://livertonvillagehall.co.uk
X-WR-CALDESC:Events for Liverton Village Hall
REFRESH-INTERVAL;VALUE=DURATION:PT1H
X-Robots-Tag:noindex
X-PUBLISHED-TTL:PT1H
BEGIN:VTIMEZONE
TZID:Europe/London
BEGIN:DAYLIGHT
TZOFFSETFROM:+0000
TZOFFSETTO:+0100
TZNAME:BST
DTSTART:20250330T010000
END:DAYLIGHT
BEGIN:STANDARD
TZOFFSETFROM:+0100
TZOFFSETTO:+0000
TZNAME:GMT
DTSTART:20251026T010000
END:STANDARD
BEGIN:DAYLIGHT
TZOFFSETFROM:+0000
TZOFFSETTO:+0100
TZNAME:BST
DTSTART:20260329T010000
END:DAYLIGHT
BEGIN:STANDARD
TZOFFSETFROM:+0100
TZOFFSETTO:+0000
TZNAME:GMT
DTSTART:20261025T010000
END:STANDARD
BEGIN:DAYLIGHT
TZOFFSETFROM:+0000
TZOFFSETTO:+0100
TZNAME:BST
DTSTART:20270328T010000
END:DAYLIGHT
BEGIN:STANDARD
TZOFFSETFROM:+0100
TZOFFSETTO:+0000
TZNAME:GMT
DTSTART:20271031T010000
END:STANDARD
END:VTIMEZONE
BEGIN:VEVENT
DTSTART;TZID=Europe/London:20260429T183000
DTEND;TZID=Europe/London:20260429T203000
DTSTAMP:20260423T182917
CREATED:20251215T180217Z
LAST-MODIFIED:20251215T180217Z
UID:10000212-1777487400-1777494600@livertonvillagehall.co.uk
SUMMARY:Zumba with Jess
DESCRIPTION:JT
URL:https://livertonvillagehall.co.uk/event/zumba-with-jess-15/2026-04-29/
END:VEVENT
BEGIN:VEVENT
DTSTART;TZID=Europe/London:20260506T183000
DTEND;TZID=Europe/London:20260506T203000
DTSTAMP:20260423T182917
CREATED:20251215T180217Z
LAST-MODIFIED:20251215T180217Z
UID:10000213-1778092200-1778099400@livertonvillagehall.co.uk
SUMMARY:Zumba with Jess
DESCRIPTION:JT
URL:https://livertonvillagehall.co.uk/event/zumba-with-jess-15/2026-05-06/
END:VEVENT
BEGIN:VEVENT
DTSTART;TZID=Europe/London:20260513T183000
DTEND;TZID=Europe/London:20260513T203000
DTSTAMP:20260423T182917
CREATED:20251215T180217Z
LAST-MODIFIED:20251215T180217Z
UID:10000214-1778697000-1778704200@livertonvillagehall.co.uk
SUMMARY:Zumba with Jess
DESCRIPTION:JT
URL:https://livertonvillagehall.co.uk/event/zumba-with-jess-15/2026-05-13/
END:VEVENT
BEGIN:VEVENT
DTSTART;TZID=Europe/London:20260520T183000
DTEND;TZID=Europe/London:20260520T203000
DTSTAMP:20260423T182917
CREATED:20251215T180217Z
LAST-MODIFIED:20251215T180217Z
UID:10000215-1779301800-1779309000@livertonvillagehall.co.uk
SUMMARY:Zumba with Jess
DESCRIPTION:JT
URL:https://livertonvillagehall.co.uk/event/zumba-with-jess-15/2026-05-20/
END:VEVENT
BEGIN:VEVENT
DTSTART;TZID=Europe/London:20260527T183000
DTEND;TZID=Europe/London:20260527T203000
DTSTAMP:20260423T182917
CREATED:20251215T180217Z
LAST-MODIFIED:20251215T180217Z
UID:10000216-1779906600-1779913800@livertonvillagehall.co.uk
SUMMARY:Zumba with Jess
DESCRIPTION:JT
URL:https://livertonvillagehall.co.uk/event/zumba-with-jess-15/2026-05-27/
END:VEVENT
BEGIN:VEVENT
DTSTART;TZID=Europe/London:20260603T183000
DTEND;TZID=Europe/London:20260603T203000
DTSTAMP:20260423T182917
CREATED:20251215T180217Z
LAST-MODIFIED:20251215T180217Z
UID:10000217-1780511400-1780518600@livertonvillagehall.co.uk
SUMMARY:Zumba with Jess
DESCRIPTION:JT
URL:https://livertonvillagehall.co.uk/event/zumba-with-jess-15/2026-06-03/
END:VEVENT
BEGIN:VEVENT
DTSTART;TZID=Europe/London:20260610T183000
DTEND;TZID=Europe/London:20260610T203000
DTSTAMP:20260423T182917
CREATED:20251215T180217Z
LAST-MODIFIED:20251215T180217Z
UID:10000218-1781116200-1781123400@livertonvillagehall.co.uk
SUMMARY:Zumba with Jess
DESCRIPTION:JT
URL:https://livertonvillagehall.co.uk/event/zumba-with-jess-15/2026-06-10/
END:VEVENT
BEGIN:VEVENT
DTSTART;TZID=Europe/London:20260617T183000
DTEND;TZID=Europe/London:20260617T203000
DTSTAMP:20260423T182917
CREATED:20251215T180217Z
LAST-MODIFIED:20251215T180217Z
UID:10000219-1781721000-1781728200@livertonvillagehall.co.uk
SUMMARY:Zumba with Jess
DESCRIPTION:JT
URL:https://livertonvillagehall.co.uk/event/zumba-with-jess-15/2026-06-17/
END:VEVENT
BEGIN:VEVENT
DTSTART;TZID=Europe/London:20260624T183000
DTEND;TZID=Europe/London:20260624T203000
DTSTAMP:20260423T182917
CREATED:20251215T180217Z
LAST-MODIFIED:20251215T180217Z
UID:10000220-1782325800-1782333000@livertonvillagehall.co.uk
SUMMARY:Zumba with Jess
DESCRIPTION:JT
URL:https://livertonvillagehall.co.uk/event/zumba-with-jess-15/2026-06-24/
END:VEVENT
BEGIN:VEVENT
DTSTART;TZID=Europe/London:20260701T183000
DTEND;TZID=Europe/London:20260701T203000
DTSTAMP:20260423T182917
CREATED:20251215T180217Z
LAST-MODIFIED:20251215T180217Z
UID:10000221-1782930600-1782937800@livertonvillagehall.co.uk
SUMMARY:Zumba with Jess
DESCRIPTION:JT
URL:https://livertonvillagehall.co.uk/event/zumba-with-jess-15/2026-07-01/
END:VEVENT
BEGIN:VEVENT
DTSTART;TZID=Europe/London:20260708T183000
DTEND;TZID=Europe/London:20260708T203000
DTSTAMP:20260423T182917
CREATED:20251215T180217Z
LAST-MODIFIED:20251215T180217Z
UID:10000222-1783535400-1783542600@livertonvillagehall.co.uk
SUMMARY:Zumba with Jess
DESCRIPTION:JT
URL:https://livertonvillagehall.co.uk/event/zumba-with-jess-15/2026-07-08/
END:VEVENT
BEGIN:VEVENT
DTSTART;TZID=Europe/London:20260715T183000
DTEND;TZID=Europe/London:20260715T203000
DTSTAMP:20260423T182917
CREATED:20251215T180217Z
LAST-MODIFIED:20251215T180217Z
UID:10000223-1784140200-1784147400@livertonvillagehall.co.uk
SUMMARY:Zumba with Jess
DESCRIPTION:JT
URL:https://livertonvillagehall.co.uk/event/zumba-with-jess-15/2026-07-15/
END:VEVENT
BEGIN:VEVENT
DTSTART;TZID=Europe/London:20260722T183000
DTEND;TZID=Europe/London:20260722T203000
DTSTAMP:20260423T182917
CREATED:20251215T180217Z
LAST-MODIFIED:20251215T180217Z
UID:10000224-1784745000-1784752200@livertonvillagehall.co.uk
SUMMARY:Zumba with Jess
DESCRIPTION:JT
URL:https://livertonvillagehall.co.uk/event/zumba-with-jess-15/2026-07-22/
END:VEVENT
BEGIN:VEVENT
DTSTART;TZID=Europe/London:20260729T183000
DTEND;TZID=Europe/London:20260729T203000
DTSTAMP:20260423T182917
CREATED:20251215T180217Z
LAST-MODIFIED:20251215T180217Z
UID:10000225-1785349800-1785357000@livertonvillagehall.co.uk
SUMMARY:Zumba with Jess
DESCRIPTION:JT
URL:https://livertonvillagehall.co.uk/event/zumba-with-jess-15/2026-07-29/
END:VEVENT
BEGIN:VEVENT
DTSTART;TZID=Europe/London:20260805T183000
DTEND;TZID=Europe/London:20260805T203000
DTSTAMP:20260423T182917
CREATED:20251215T180217Z
LAST-MODIFIED:20251215T180217Z
UID:10000226-1785954600-1785961800@livertonvillagehall.co.uk
SUMMARY:Zumba with Jess
DESCRIPTION:JT
URL:https://livertonvillagehall.co.uk/event/zumba-with-jess-15/2026-08-05/
END:VEVENT
BEGIN:VEVENT
DTSTART;TZID=Europe/London:20260812T183000
DTEND;TZID=Europe/London:20260812T203000
DTSTAMP:20260423T182917
CREATED:20251215T180217Z
LAST-MODIFIED:20251215T180217Z
UID:10000227-1786559400-1786566600@livertonvillagehall.co.uk
SUMMARY:Zumba with Jess
DESCRIPTION:JT
URL:https://livertonvillagehall.co.uk/event/zumba-with-jess-15/2026-08-12/
END:VEVENT
BEGIN:VEVENT
DTSTART;TZID=Europe/London:20260819T183000
DTEND;TZID=Europe/London:20260819T203000
DTSTAMP:20260423T182917
CREATED:20251215T180217Z
LAST-MODIFIED:20251215T180217Z
UID:10000228-1787164200-1787171400@livertonvillagehall.co.uk
SUMMARY:Zumba with Jess
DESCRIPTION:JT
URL:https://livertonvillagehall.co.uk/event/zumba-with-jess-15/2026-08-19/
END:VEVENT
BEGIN:VEVENT
DTSTART;TZID=Europe/London:20260826T183000
DTEND;TZID=Europe/London:20260826T203000
DTSTAMP:20260423T182917
CREATED:20251215T180217Z
LAST-MODIFIED:20251215T180217Z
UID:10000229-1787769000-1787776200@livertonvillagehall.co.uk
SUMMARY:Zumba with Jess
DESCRIPTION:JT
URL:https://livertonvillagehall.co.uk/event/zumba-with-jess-15/2026-08-26/
END:VEVENT
BEGIN:VEVENT
DTSTART;TZID=Europe/London:20260902T183000
DTEND;TZID=Europe/London:20260902T203000
DTSTAMP:20260423T182917
CREATED:20251215T180217Z
LAST-MODIFIED:20251215T180217Z
UID:10000230-1788373800-1788381000@livertonvillagehall.co.uk
SUMMARY:Zumba with Jess
DESCRIPTION:JT
URL:https://livertonvillagehall.co.uk/event/zumba-with-jess-15/2026-09-02/
END:VEVENT
BEGIN:VEVENT
DTSTART;TZID=Europe/London:20260909T183000
DTEND;TZID=Europe/London:20260909T203000
DTSTAMP:20260423T182917
CREATED:20251215T180217Z
LAST-MODIFIED:20251215T180217Z
UID:10000231-1788978600-1788985800@livertonvillagehall.co.uk
SUMMARY:Zumba with Jess
DESCRIPTION:JT
URL:https://livertonvillagehall.co.uk/event/zumba-with-jess-15/2026-09-09/
END:VEVENT
BEGIN:VEVENT
DTSTART;TZID=Europe/London:20260916T183000
DTEND;TZID=Europe/London:20260916T203000
DTSTAMP:20260423T182917
CREATED:20251215T180217Z
LAST-MODIFIED:20251215T180217Z
UID:10000232-1789583400-1789590600@livertonvillagehall.co.uk
SUMMARY:Zumba with Jess
DESCRIPTION:JT
URL:https://livertonvillagehall.co.uk/event/zumba-with-jess-15/2026-09-16/
END:VEVENT
BEGIN:VEVENT
DTSTART;TZID=Europe/London:20260923T183000
DTEND;TZID=Europe/London:20260923T203000
DTSTAMP:20260423T182917
CREATED:20251215T180217Z
LAST-MODIFIED:20251215T180217Z
UID:10000233-1790188200-1790195400@livertonvillagehall.co.uk
SUMMARY:Zumba with Jess
DESCRIPTION:JT
URL:https://livertonvillagehall.co.uk/event/zumba-with-jess-15/2026-09-23/
END:VEVENT
BEGIN:VEVENT
DTSTART;TZID=Europe/London:20260930T183000
DTEND;TZID=Europe/London:20260930T203000
DTSTAMP:20260423T182917
CREATED:20251215T180217Z
LAST-MODIFIED:20251215T180217Z
UID:10000234-1790793000-1790800200@livertonvillagehall.co.uk
SUMMARY:Zumba with Jess
DESCRIPTION:JT
URL:https://livertonvillagehall.co.uk/event/zumba-with-jess-15/2026-09-30/
END:VEVENT
BEGIN:VEVENT
DTSTART;TZID=Europe/London:20261007T183000
DTEND;TZID=Europe/London:20261007T203000
DTSTAMP:20260423T182917
CREATED:20251215T180217Z
LAST-MODIFIED:20251215T180217Z
UID:10000235-1791397800-1791405000@livertonvillagehall.co.uk
SUMMARY:Zumba with Jess
DESCRIPTION:JT
URL:https://livertonvillagehall.co.uk/event/zumba-with-jess-15/2026-10-07/
END:VEVENT
BEGIN:VEVENT
DTSTART;TZID=Europe/London:20261014T183000
DTEND;TZID=Europe/London:20261014T203000
DTSTAMP:20260423T182917
CREATED:20251215T180217Z
LAST-MODIFIED:20251215T180217Z
UID:10000236-1792002600-1792009800@livertonvillagehall.co.uk
SUMMARY:Zumba with Jess
DESCRIPTION:JT
URL:https://livertonvillagehall.co.uk/event/zumba-with-jess-15/2026-10-14/
END:VEVENT
BEGIN:VEVENT
DTSTART;TZID=Europe/London:20261021T183000
DTEND;TZID=Europe/London:20261021T203000
DTSTAMP:20260423T182917
CREATED:20251215T180217Z
LAST-MODIFIED:20251215T180217Z
UID:10000237-1792607400-1792614600@livertonvillagehall.co.uk
SUMMARY:Zumba with Jess
DESCRIPTION:JT
URL:https://livertonvillagehall.co.uk/event/zumba-with-jess-15/2026-10-21/
END:VEVENT
BEGIN:VEVENT
DTSTART;TZID=Europe/London:20261028T183000
DTEND;TZID=Europe/London:20261028T203000
DTSTAMP:20260423T182917
CREATED:20251215T180217Z
LAST-MODIFIED:20251215T180217Z
UID:10000238-1793212200-1793219400@livertonvillagehall.co.uk
SUMMARY:Zumba with Jess
DESCRIPTION:JT
URL:https://livertonvillagehall.co.uk/event/zumba-with-jess-15/2026-10-28/
END:VEVENT
BEGIN:VEVENT
DTSTART;TZID=Europe/London:20261104T183000
DTEND;TZID=Europe/London:20261104T203000
DTSTAMP:20260423T182917
CREATED:20251215T180217Z
LAST-MODIFIED:20251215T180217Z
UID:10000239-1793817000-1793824200@livertonvillagehall.co.uk
SUMMARY:Zumba with Jess
DESCRIPTION:JT
URL:https://livertonvillagehall.co.uk/event/zumba-with-jess-15/2026-11-04/
END:VEVENT
BEGIN:VEVENT
DTSTART;TZID=Europe/London:20261111T183000
DTEND;TZID=Europe/London:20261111T203000
DTSTAMP:20260423T182917
CREATED:20251215T180217Z
LAST-MODIFIED:20251215T180217Z
UID:10000240-1794421800-1794429000@livertonvillagehall.co.uk
SUMMARY:Zumba with Jess
DESCRIPTION:JT
URL:https://livertonvillagehall.co.uk/event/zumba-with-jess-15/2026-11-11/
END:VEVENT
BEGIN:VEVENT
DTSTART;TZID=Europe/London:20261118T183000
DTEND;TZID=Europe/London:20261118T203000
DTSTAMP:20260423T182917
CREATED:20251215T180217Z
LAST-MODIFIED:20251215T180217Z
UID:10000241-1795026600-1795033800@livertonvillagehall.co.uk
SUMMARY:Zumba with Jess
DESCRIPTION:JT
URL:https://livertonvillagehall.co.uk/event/zumba-with-jess-15/2026-11-18/
END:VEVENT
END:VCALENDAR