BEGIN:VCALENDAR
VERSION:2.0
PRODID:-//Liverton Village Hall - ECPv6.15.17.1//NONSGML v1.0//EN
CALSCALE:GREGORIAN
METHOD:PUBLISH
X-WR-CALNAME:Liverton Village Hall
X-ORIGINAL-URL:https://livertonvillagehall.co.uk
X-WR-CALDESC:Events for Liverton Village Hall
REFRESH-INTERVAL;VALUE=DURATION:PT1H
X-Robots-Tag:noindex
X-PUBLISHED-TTL:PT1H
BEGIN:VTIMEZONE
TZID:Europe/London
BEGIN:DAYLIGHT
TZOFFSETFROM:+0000
TZOFFSETTO:+0100
TZNAME:BST
DTSTART:20250330T010000
END:DAYLIGHT
BEGIN:STANDARD
TZOFFSETFROM:+0100
TZOFFSETTO:+0000
TZNAME:GMT
DTSTART:20251026T010000
END:STANDARD
BEGIN:DAYLIGHT
TZOFFSETFROM:+0000
TZOFFSETTO:+0100
TZNAME:BST
DTSTART:20260329T010000
END:DAYLIGHT
BEGIN:STANDARD
TZOFFSETFROM:+0100
TZOFFSETTO:+0000
TZNAME:GMT
DTSTART:20261025T010000
END:STANDARD
BEGIN:DAYLIGHT
TZOFFSETFROM:+0000
TZOFFSETTO:+0100
TZNAME:BST
DTSTART:20270328T010000
END:DAYLIGHT
BEGIN:STANDARD
TZOFFSETFROM:+0100
TZOFFSETTO:+0000
TZNAME:GMT
DTSTART:20271031T010000
END:STANDARD
END:VTIMEZONE
BEGIN:VEVENT
DTSTART;TZID=Europe/London:20260427T183000
DTEND;TZID=Europe/London:20260427T203000
DTSTAMP:20260423T181956
CREATED:20251215T175932Z
LAST-MODIFIED:20260414T202046Z
UID:10000109-1777314600-1777321800@livertonvillagehall.co.uk
SUMMARY:Zumba with Jess
DESCRIPTION:JT
URL:https://livertonvillagehall.co.uk/event/zumba-with-jess-14/2026-04-27/
END:VEVENT
BEGIN:VEVENT
DTSTART;TZID=Europe/London:20260504T183000
DTEND;TZID=Europe/London:20260504T203000
DTSTAMP:20260423T181956
CREATED:20251215T175932Z
LAST-MODIFIED:20260414T202046Z
UID:10000110-1777919400-1777926600@livertonvillagehall.co.uk
SUMMARY:Zumba with Jess
DESCRIPTION:JT
URL:https://livertonvillagehall.co.uk/event/zumba-with-jess-14/2026-05-04/
END:VEVENT
BEGIN:VEVENT
DTSTART;TZID=Europe/London:20260511T183000
DTEND;TZID=Europe/London:20260511T203000
DTSTAMP:20260423T181956
CREATED:20251215T175932Z
LAST-MODIFIED:20260414T202046Z
UID:10000111-1778524200-1778531400@livertonvillagehall.co.uk
SUMMARY:Zumba with Jess
DESCRIPTION:JT
URL:https://livertonvillagehall.co.uk/event/zumba-with-jess-14/2026-05-11/
END:VEVENT
BEGIN:VEVENT
DTSTART;TZID=Europe/London:20260518T183000
DTEND;TZID=Europe/London:20260518T203000
DTSTAMP:20260423T181956
CREATED:20251215T175932Z
LAST-MODIFIED:20260414T202046Z
UID:10000112-1779129000-1779136200@livertonvillagehall.co.uk
SUMMARY:Zumba with Jess
DESCRIPTION:JT
URL:https://livertonvillagehall.co.uk/event/zumba-with-jess-14/2026-05-18/
END:VEVENT
BEGIN:VEVENT
DTSTART;TZID=Europe/London:20260525T183000
DTEND;TZID=Europe/London:20260525T203000
DTSTAMP:20260423T181956
CREATED:20251215T175932Z
LAST-MODIFIED:20260414T202046Z
UID:10000113-1779733800-1779741000@livertonvillagehall.co.uk
SUMMARY:Zumba with Jess
DESCRIPTION:JT
URL:https://livertonvillagehall.co.uk/event/zumba-with-jess-14/2026-05-25/
END:VEVENT
BEGIN:VEVENT
DTSTART;TZID=Europe/London:20260601T183000
DTEND;TZID=Europe/London:20260601T203000
DTSTAMP:20260423T181956
CREATED:20251215T175932Z
LAST-MODIFIED:20260414T202046Z
UID:10000114-1780338600-1780345800@livertonvillagehall.co.uk
SUMMARY:Zumba with Jess
DESCRIPTION:JT
URL:https://livertonvillagehall.co.uk/event/zumba-with-jess-14/2026-06-01/
END:VEVENT
BEGIN:VEVENT
DTSTART;TZID=Europe/London:20260608T183000
DTEND;TZID=Europe/London:20260608T203000
DTSTAMP:20260423T181956
CREATED:20251215T175932Z
LAST-MODIFIED:20260414T202046Z
UID:10000115-1780943400-1780950600@livertonvillagehall.co.uk
SUMMARY:Zumba with Jess
DESCRIPTION:JT
URL:https://livertonvillagehall.co.uk/event/zumba-with-jess-14/2026-06-08/
END:VEVENT
BEGIN:VEVENT
DTSTART;TZID=Europe/London:20260615T183000
DTEND;TZID=Europe/London:20260615T203000
DTSTAMP:20260423T181956
CREATED:20251215T175932Z
LAST-MODIFIED:20260414T202046Z
UID:10000116-1781548200-1781555400@livertonvillagehall.co.uk
SUMMARY:Zumba with Jess
DESCRIPTION:JT
URL:https://livertonvillagehall.co.uk/event/zumba-with-jess-14/2026-06-15/
END:VEVENT
BEGIN:VEVENT
DTSTART;TZID=Europe/London:20260622T183000
DTEND;TZID=Europe/London:20260622T203000
DTSTAMP:20260423T181956
CREATED:20251215T175932Z
LAST-MODIFIED:20260414T202046Z
UID:10000117-1782153000-1782160200@livertonvillagehall.co.uk
SUMMARY:Zumba with Jess
DESCRIPTION:JT
URL:https://livertonvillagehall.co.uk/event/zumba-with-jess-14/2026-06-22/
END:VEVENT
BEGIN:VEVENT
DTSTART;TZID=Europe/London:20260629T183000
DTEND;TZID=Europe/London:20260629T203000
DTSTAMP:20260423T181956
CREATED:20251215T175932Z
LAST-MODIFIED:20260414T202046Z
UID:10000118-1782757800-1782765000@livertonvillagehall.co.uk
SUMMARY:Zumba with Jess
DESCRIPTION:JT
URL:https://livertonvillagehall.co.uk/event/zumba-with-jess-14/2026-06-29/
END:VEVENT
BEGIN:VEVENT
DTSTART;TZID=Europe/London:20260706T183000
DTEND;TZID=Europe/London:20260706T203000
DTSTAMP:20260423T181956
CREATED:20251215T175932Z
LAST-MODIFIED:20260414T202046Z
UID:10000119-1783362600-1783369800@livertonvillagehall.co.uk
SUMMARY:Zumba with Jess
DESCRIPTION:JT
URL:https://livertonvillagehall.co.uk/event/zumba-with-jess-14/2026-07-06/
END:VEVENT
BEGIN:VEVENT
DTSTART;TZID=Europe/London:20260713T183000
DTEND;TZID=Europe/London:20260713T203000
DTSTAMP:20260423T181956
CREATED:20251215T175932Z
LAST-MODIFIED:20260414T202046Z
UID:10000120-1783967400-1783974600@livertonvillagehall.co.uk
SUMMARY:Zumba with Jess
DESCRIPTION:JT
URL:https://livertonvillagehall.co.uk/event/zumba-with-jess-14/2026-07-13/
END:VEVENT
BEGIN:VEVENT
DTSTART;TZID=Europe/London:20260720T183000
DTEND;TZID=Europe/London:20260720T203000
DTSTAMP:20260423T181956
CREATED:20251215T175932Z
LAST-MODIFIED:20260414T202046Z
UID:10000121-1784572200-1784579400@livertonvillagehall.co.uk
SUMMARY:Zumba with Jess
DESCRIPTION:JT
URL:https://livertonvillagehall.co.uk/event/zumba-with-jess-14/2026-07-20/
END:VEVENT
BEGIN:VEVENT
DTSTART;TZID=Europe/London:20260727T183000
DTEND;TZID=Europe/London:20260727T203000
DTSTAMP:20260423T181956
CREATED:20251215T175932Z
LAST-MODIFIED:20260414T202046Z
UID:10000122-1785177000-1785184200@livertonvillagehall.co.uk
SUMMARY:Zumba with Jess
DESCRIPTION:JT
URL:https://livertonvillagehall.co.uk/event/zumba-with-jess-14/2026-07-27/
END:VEVENT
BEGIN:VEVENT
DTSTART;TZID=Europe/London:20260803T183000
DTEND;TZID=Europe/London:20260803T203000
DTSTAMP:20260423T181956
CREATED:20251215T175932Z
LAST-MODIFIED:20260414T202046Z
UID:10000123-1785781800-1785789000@livertonvillagehall.co.uk
SUMMARY:Zumba with Jess
DESCRIPTION:JT
URL:https://livertonvillagehall.co.uk/event/zumba-with-jess-14/2026-08-03/
END:VEVENT
BEGIN:VEVENT
DTSTART;TZID=Europe/London:20260810T183000
DTEND;TZID=Europe/London:20260810T203000
DTSTAMP:20260423T181956
CREATED:20251215T175932Z
LAST-MODIFIED:20260414T202046Z
UID:10000124-1786386600-1786393800@livertonvillagehall.co.uk
SUMMARY:Zumba with Jess
DESCRIPTION:JT
URL:https://livertonvillagehall.co.uk/event/zumba-with-jess-14/2026-08-10/
END:VEVENT
BEGIN:VEVENT
DTSTART;TZID=Europe/London:20260817T183000
DTEND;TZID=Europe/London:20260817T203000
DTSTAMP:20260423T181956
CREATED:20251215T175932Z
LAST-MODIFIED:20260414T202046Z
UID:10000125-1786991400-1786998600@livertonvillagehall.co.uk
SUMMARY:Zumba with Jess
DESCRIPTION:JT
URL:https://livertonvillagehall.co.uk/event/zumba-with-jess-14/2026-08-17/
END:VEVENT
BEGIN:VEVENT
DTSTART;TZID=Europe/London:20260824T183000
DTEND;TZID=Europe/London:20260824T203000
DTSTAMP:20260423T181956
CREATED:20251215T175932Z
LAST-MODIFIED:20260414T202046Z
UID:10000126-1787596200-1787603400@livertonvillagehall.co.uk
SUMMARY:Zumba with Jess
DESCRIPTION:JT
URL:https://livertonvillagehall.co.uk/event/zumba-with-jess-14/2026-08-24/
END:VEVENT
BEGIN:VEVENT
DTSTART;TZID=Europe/London:20260831T183000
DTEND;TZID=Europe/London:20260831T203000
DTSTAMP:20260423T181956
CREATED:20251215T175932Z
LAST-MODIFIED:20260414T202046Z
UID:10000127-1788201000-1788208200@livertonvillagehall.co.uk
SUMMARY:Zumba with Jess
DESCRIPTION:JT
URL:https://livertonvillagehall.co.uk/event/zumba-with-jess-14/2026-08-31/
END:VEVENT
BEGIN:VEVENT
DTSTART;TZID=Europe/London:20260907T183000
DTEND;TZID=Europe/London:20260907T203000
DTSTAMP:20260423T181956
CREATED:20251215T175932Z
LAST-MODIFIED:20260414T202046Z
UID:10000128-1788805800-1788813000@livertonvillagehall.co.uk
SUMMARY:Zumba with Jess
DESCRIPTION:JT
URL:https://livertonvillagehall.co.uk/event/zumba-with-jess-14/2026-09-07/
END:VEVENT
BEGIN:VEVENT
DTSTART;TZID=Europe/London:20260914T183000
DTEND;TZID=Europe/London:20260914T203000
DTSTAMP:20260423T181956
CREATED:20251215T175932Z
LAST-MODIFIED:20260414T202046Z
UID:10000129-1789410600-1789417800@livertonvillagehall.co.uk
SUMMARY:Zumba with Jess
DESCRIPTION:JT
URL:https://livertonvillagehall.co.uk/event/zumba-with-jess-14/2026-09-14/
END:VEVENT
BEGIN:VEVENT
DTSTART;TZID=Europe/London:20260921T183000
DTEND;TZID=Europe/London:20260921T203000
DTSTAMP:20260423T181956
CREATED:20251215T175932Z
LAST-MODIFIED:20260414T202046Z
UID:10000130-1790015400-1790022600@livertonvillagehall.co.uk
SUMMARY:Zumba with Jess
DESCRIPTION:JT
URL:https://livertonvillagehall.co.uk/event/zumba-with-jess-14/2026-09-21/
END:VEVENT
BEGIN:VEVENT
DTSTART;TZID=Europe/London:20260928T183000
DTEND;TZID=Europe/London:20260928T203000
DTSTAMP:20260423T181956
CREATED:20251215T175932Z
LAST-MODIFIED:20260414T202046Z
UID:10000131-1790620200-1790627400@livertonvillagehall.co.uk
SUMMARY:Zumba with Jess
DESCRIPTION:JT
URL:https://livertonvillagehall.co.uk/event/zumba-with-jess-14/2026-09-28/
END:VEVENT
BEGIN:VEVENT
DTSTART;TZID=Europe/London:20261005T183000
DTEND;TZID=Europe/London:20261005T203000
DTSTAMP:20260423T181956
CREATED:20251215T175932Z
LAST-MODIFIED:20260414T202046Z
UID:10000132-1791225000-1791232200@livertonvillagehall.co.uk
SUMMARY:Zumba with Jess
DESCRIPTION:JT
URL:https://livertonvillagehall.co.uk/event/zumba-with-jess-14/2026-10-05/
END:VEVENT
BEGIN:VEVENT
DTSTART;TZID=Europe/London:20261012T183000
DTEND;TZID=Europe/London:20261012T203000
DTSTAMP:20260423T181956
CREATED:20251215T175932Z
LAST-MODIFIED:20260414T202046Z
UID:10000133-1791829800-1791837000@livertonvillagehall.co.uk
SUMMARY:Zumba with Jess
DESCRIPTION:JT
URL:https://livertonvillagehall.co.uk/event/zumba-with-jess-14/2026-10-12/
END:VEVENT
BEGIN:VEVENT
DTSTART;TZID=Europe/London:20261019T183000
DTEND;TZID=Europe/London:20261019T203000
DTSTAMP:20260423T181956
CREATED:20251215T175932Z
LAST-MODIFIED:20260414T202046Z
UID:10000134-1792434600-1792441800@livertonvillagehall.co.uk
SUMMARY:Zumba with Jess
DESCRIPTION:JT
URL:https://livertonvillagehall.co.uk/event/zumba-with-jess-14/2026-10-19/
END:VEVENT
BEGIN:VEVENT
DTSTART;TZID=Europe/London:20261026T183000
DTEND;TZID=Europe/London:20261026T203000
DTSTAMP:20260423T181956
CREATED:20251215T175932Z
LAST-MODIFIED:20260414T202046Z
UID:10000135-1793039400-1793046600@livertonvillagehall.co.uk
SUMMARY:Zumba with Jess
DESCRIPTION:JT
URL:https://livertonvillagehall.co.uk/event/zumba-with-jess-14/2026-10-26/
END:VEVENT
BEGIN:VEVENT
DTSTART;TZID=Europe/London:20261102T183000
DTEND;TZID=Europe/London:20261102T203000
DTSTAMP:20260423T181956
CREATED:20251215T175932Z
LAST-MODIFIED:20260414T202046Z
UID:10000136-1793644200-1793651400@livertonvillagehall.co.uk
SUMMARY:Zumba with Jess
DESCRIPTION:JT
URL:https://livertonvillagehall.co.uk/event/zumba-with-jess-14/2026-11-02/
END:VEVENT
BEGIN:VEVENT
DTSTART;TZID=Europe/London:20261109T183000
DTEND;TZID=Europe/London:20261109T203000
DTSTAMP:20260423T181956
CREATED:20251215T175932Z
LAST-MODIFIED:20260414T202046Z
UID:10000137-1794249000-1794256200@livertonvillagehall.co.uk
SUMMARY:Zumba with Jess
DESCRIPTION:JT
URL:https://livertonvillagehall.co.uk/event/zumba-with-jess-14/2026-11-09/
END:VEVENT
BEGIN:VEVENT
DTSTART;TZID=Europe/London:20261116T183000
DTEND;TZID=Europe/London:20261116T203000
DTSTAMP:20260423T181956
CREATED:20251215T175932Z
LAST-MODIFIED:20260414T202046Z
UID:10000138-1794853800-1794861000@livertonvillagehall.co.uk
SUMMARY:Zumba with Jess
DESCRIPTION:JT
URL:https://livertonvillagehall.co.uk/event/zumba-with-jess-14/2026-11-16/
END:VEVENT
END:VCALENDAR